BEGIN:VCALENDAR
VERSION:2.0
BEGIN:VEVENT
URL:https://tickets.oztix.com.au/outlet/event/ffb09c02-1d1f-4372-81b3-1dae43e819e6
DTSTART:20260607T013000Z
DTEND:20260607T013000Z
SUMMARY:Alex by the Sea – Ross Wilson, Killer Queen, The Australian INXS Tribute Show, Starshine- Tribute to Stevie Nicks & Fleetwood Mac
DESCRIPTION:Event details: https://tickets.oztix.com.au/outlet/event/ffb09c02-1d1f-4372-81b3-1dae43e819e6
LOCATION:Alexandra Headland Surf Life Saving Club (Alexandra Headland, QLD)
END:VEVENT
END:VCALENDAR