BEGIN:VCALENDAR
VERSION:2.0
BEGIN:VEVENT
URL:https://tickets.oztix.com.au/outlet/event/ff844af2-d890-44e2-b332-6e260d9bd8c3
DTSTART:20260509T090000Z
DTEND:20260509T090000Z
SUMMARY:Hannah Brewer ‘Catch and Release’ EP Tour
DESCRIPTION:Event details: https://tickets.oztix.com.au/outlet/event/ff844af2-d890-44e2-b332-6e260d9bd8c3
LOCATION:The Old Bar (Fitzroy, VIC)
END:VEVENT
END:VCALENDAR