BEGIN:VCALENDAR
VERSION:2.0
BEGIN:VEVENT
URL:https://tickets.oztix.com.au/outlet/event/ff2c0059-b681-4c36-839e-2c3f6b0eb680
DTSTART:20260829T090000Z
DTEND:20260829T090000Z
SUMMARY:Montaigne - Glorious Heights 10th Anniversary Tour
DESCRIPTION:Event details: https://tickets.oztix.com.au/outlet/event/ff2c0059-b681-4c36-839e-2c3f6b0eb680
LOCATION:Theatre Royal, Castlemaine (Castlemaine, VIC)
END:VEVENT
END:VCALENDAR