BEGIN:VCALENDAR
VERSION:2.0
BEGIN:VEVENT
URL:https://tickets.oztix.com.au/outlet/event/ff0af277-399f-44b0-aa64-c0b75e7ec68e
DTSTART:20260912T080000Z
DTEND:20260912T080000Z
SUMMARY:Magic Men Gold Coast - Surfers Paradise
DESCRIPTION:Event details: https://tickets.oztix.com.au/outlet/event/ff0af277-399f-44b0-aa64-c0b75e7ec68e
LOCATION:Platinum Nightclub (Surfers Paradise, QLD)
END:VEVENT
END:VCALENDAR