BEGIN:VCALENDAR
VERSION:2.0
BEGIN:VEVENT
URL:https://tickets.oztix.com.au/outlet/event/fe335694-54ca-44f6-85de-aa0f84f0d8d2
DTSTART:20260508T120000Z
DTEND:20260508T120000Z
SUMMARY:Kenny Drives 'West Coast' Single Launch
DESCRIPTION:Event details: https://tickets.oztix.com.au/outlet/event/fe335694-54ca-44f6-85de-aa0f84f0d8d2
LOCATION:Indian Ocean Hotel (Scarborough, WA)
END:VEVENT
END:VCALENDAR