BEGIN:VCALENDAR
VERSION:2.0
BEGIN:VEVENT
URL:https://tickets.oztix.com.au/outlet/event/fda8090d-00ae-4e11-b3e8-8c49a87b0740
DTSTART:20260501T100000Z
DTEND:20260501T100000Z
SUMMARY:Basement Comedy Club: Friday Comedy Showcase
DESCRIPTION:Event details: https://tickets.oztix.com.au/outlet/event/fda8090d-00ae-4e11-b3e8-8c49a87b0740
LOCATION: Basement Comedy Club (Melbourne, VIC)
END:VEVENT
END:VCALENDAR