BEGIN:VCALENDAR
VERSION:2.0
BEGIN:VEVENT
URL:https://tickets.oztix.com.au/outlet/event/fd69df5a-a9d6-4f12-8acd-bbe33dd4f312
DTSTART:20260503T080000Z
DTEND:20260503T080000Z
SUMMARY:Gordi Live at Canobolas Dance Hall
DESCRIPTION:Event details: https://tickets.oztix.com.au/outlet/event/fd69df5a-a9d6-4f12-8acd-bbe33dd4f312
LOCATION:Canobolas Dance Hall (Canobolas, NSW)
END:VEVENT
END:VCALENDAR