BEGIN:VCALENDAR
VERSION:2.0
BEGIN:VEVENT
URL:https://tickets.oztix.com.au/outlet/event/fd130cd6-817f-4c64-97cc-c5e94e26e2dd
DTSTART:20260710T093000Z
DTEND:20260710T093000Z
SUMMARY:Red Cassette
DESCRIPTION:Event details: https://tickets.oztix.com.au/outlet/event/fd130cd6-817f-4c64-97cc-c5e94e26e2dd
LOCATION:The Heritage Hotel, Bulli (Bulli, NSW)
END:VEVENT
END:VCALENDAR