BEGIN:VCALENDAR
VERSION:2.0
BEGIN:VEVENT
URL:https://tickets.oztix.com.au/outlet/event/fc1d0bfb-b003-497d-a379-35e1235912be
DTSTART:20260502T090000Z
DTEND:20260502T090000Z
SUMMARY:Marcos Kolo - Pale Blue EP launch
DESCRIPTION:Event details: https://tickets.oztix.com.au/outlet/event/fc1d0bfb-b003-497d-a379-35e1235912be
LOCATION:Black Bear Lodge (Fortitude Valley, QLD)
END:VEVENT
END:VCALENDAR