BEGIN:VCALENDAR
VERSION:2.0
BEGIN:VEVENT
URL:https://tickets.oztix.com.au/outlet/event/fbb8b996-86a0-4ec6-83b3-f59ca7340881
DTSTART:20260725T100000Z
DTEND:20260725T100000Z
SUMMARY:Don't Change - INXS Tribute show
DESCRIPTION:Event details: https://tickets.oztix.com.au/outlet/event/fbb8b996-86a0-4ec6-83b3-f59ca7340881
LOCATION:Leichhardt Hotel (Rockhampton, QLD)
END:VEVENT
END:VCALENDAR