BEGIN:VCALENDAR
VERSION:2.0
BEGIN:VEVENT
URL:https://tickets.oztix.com.au/outlet/event/facc671e-126b-4d2c-bc64-f42f1e7011f0
DTSTART:20260507T090000Z
DTEND:20260507T090000Z
SUMMARY:Lift Off: A Rock & Roll Party w/ Sammy Luka’s Sundown Band
DESCRIPTION:Event details: https://tickets.oztix.com.au/outlet/event/facc671e-126b-4d2c-bc64-f42f1e7011f0
LOCATION:Low 302 (Surry Hills, NSW)
END:VEVENT
END:VCALENDAR