BEGIN:VCALENDAR
VERSION:2.0
BEGIN:VEVENT
URL:https://tickets.oztix.com.au/outlet/event/fac2e2c3-15f5-4dcf-9379-a628464ed6e0
DTSTART:20260503T053000Z
DTEND:20260503T053000Z
SUMMARY:Never Ending 80s - Dress Up Party - 10 Year Anniversary
DESCRIPTION:Event details: https://tickets.oztix.com.au/outlet/event/fac2e2c3-15f5-4dcf-9379-a628464ed6e0
LOCATION:Miami Marketta, Gold Coast (Miami, QLD)
END:VEVENT
END:VCALENDAR