BEGIN:VCALENDAR
VERSION:2.0
BEGIN:VEVENT
URL:https://tickets.oztix.com.au/outlet/event/fac12edf-e51b-4d1d-93d0-9dceb366b2c1
DTSTART:20260510T080000Z
DTEND:20260510T080000Z
SUMMARY:Meg Mac
DESCRIPTION:Event details: https://tickets.oztix.com.au/outlet/event/fac12edf-e51b-4d1d-93d0-9dceb366b2c1
LOCATION:The Warehouse Bandroom  (Townsville, QLD)
END:VEVENT
END:VCALENDAR