BEGIN:VCALENDAR
VERSION:2.0
BEGIN:VEVENT
URL:https://tickets.oztix.com.au/outlet/event/fa5dc3c0-77f9-4369-bb9f-60d590739b9a
DTSTART:20260530T090000Z
DTEND:20260530T090000Z
SUMMARY:WILLIAM CRIGHTON - COLONIAL DRIFT ALBUM TOUR
DESCRIPTION:Event details: https://tickets.oztix.com.au/outlet/event/fa5dc3c0-77f9-4369-bb9f-60d590739b9a
LOCATION:Crowbar Sydney (Leichhardt, NSW)
END:VEVENT
END:VCALENDAR