BEGIN:VCALENDAR
VERSION:2.0
BEGIN:VEVENT
URL:https://tickets.oztix.com.au/outlet/event/f95ff317-7135-4529-8dcf-0d56ee2e8245
DTSTART:20260509T093000Z
DTEND:20260509T093000Z
SUMMARY:Ben Lee: On Tour Always
DESCRIPTION:Event details: https://tickets.oztix.com.au/outlet/event/f95ff317-7135-4529-8dcf-0d56ee2e8245
LOCATION:Port Lincoln Brewing Co (Port Lincoln, SA)
END:VEVENT
END:VCALENDAR