BEGIN:VCALENDAR
VERSION:2.0
BEGIN:VEVENT
URL:https://tickets.oztix.com.au/outlet/event/f76da1f9-db1c-4968-ae6c-30bf77fb799b
DTSTART:20260424T013000Z
DTEND:20260424T013000Z
SUMMARY:Newstead House Friday Guided Tours - 11:30AM Friday 24th April
DESCRIPTION:Event details: https://tickets.oztix.com.au/outlet/event/f76da1f9-db1c-4968-ae6c-30bf77fb799b
LOCATION:Newstead House (Newstead, QLD)
END:VEVENT
END:VCALENDAR