BEGIN:VCALENDAR
VERSION:2.0
BEGIN:VEVENT
URL:https://tickets.oztix.com.au/outlet/event/f6e0d226-cddf-41f0-be8b-0e7e637be324
DTSTART:20260509T120000Z
DTEND:20260509T120000Z
SUMMARY:Ghost Care
DESCRIPTION:Event details: https://tickets.oztix.com.au/outlet/event/f6e0d226-cddf-41f0-be8b-0e7e637be324
LOCATION:The Bird (Northbridge, Perth, WA)
END:VEVENT
END:VCALENDAR