BEGIN:VCALENDAR
VERSION:2.0
BEGIN:VEVENT
URL:https://tickets.oztix.com.au/outlet/event/f6a4e88e-07a5-4aeb-997f-c06406a68193
DTSTART:20260516T090000Z
DTEND:20260516T090000Z
SUMMARY:GROWTH 'Under The Under' album launch
DESCRIPTION:Event details: https://tickets.oztix.com.au/outlet/event/f6a4e88e-07a5-4aeb-997f-c06406a68193
LOCATION:Bergy Bandroom (Brunswick, VIC)
END:VEVENT
END:VCALENDAR