BEGIN:VCALENDAR
VERSION:2.0
BEGIN:VEVENT
URL:https://tickets.oztix.com.au/outlet/event/f66eed1d-014d-4946-80d3-a1aeb9715abd
DTSTART:20260509T070000Z
DTEND:20260509T070000Z
SUMMARY:Y.O.G.A - COW☆TECH | Kingscliff Beach Hotel
DESCRIPTION:Event details: https://tickets.oztix.com.au/outlet/event/f66eed1d-014d-4946-80d3-a1aeb9715abd
LOCATION:Kingscliff Beach Hotel (Kingscliff, NSW)
END:VEVENT
END:VCALENDAR