BEGIN:VCALENDAR
VERSION:2.0
BEGIN:VEVENT
URL:https://tickets.oztix.com.au/outlet/event/f5ccac55-82de-49d9-99c0-8daf0598b55d
DTSTART:20260605T100000Z
DTEND:20260605T100000Z
SUMMARY:Entertainment Quarter & Friends
DESCRIPTION:Event details: https://tickets.oztix.com.au/outlet/event/f5ccac55-82de-49d9-99c0-8daf0598b55d
LOCATION:Botany View Hotel (Newtown, NSW)
END:VEVENT
END:VCALENDAR