BEGIN:VCALENDAR
VERSION:2.0
BEGIN:VEVENT
URL:https://tickets.oztix.com.au/outlet/event/f57ca234-379b-4131-96c6-1ca9209d5619
DTSTART:20260904T090000Z
DTEND:20260904T090000Z
SUMMARY:Sienna Skies "Australian Spring Tour"
DESCRIPTION:Event details: https://tickets.oztix.com.au/outlet/event/f57ca234-379b-4131-96c6-1ca9209d5619
LOCATION:West's Diggers Club (Tamworth, NSW)
END:VEVENT
END:VCALENDAR