BEGIN:VCALENDAR
VERSION:2.0
BEGIN:VEVENT
URL:https://tickets.oztix.com.au/outlet/event/f56cbebc-4503-48a3-8f08-14ea7fa2cd9c
DTSTART:20260704T080000Z
DTEND:20260704T080000Z
SUMMARY:Victorian Beatbox Championship 2026
DESCRIPTION:Event details: https://tickets.oztix.com.au/outlet/event/f56cbebc-4503-48a3-8f08-14ea7fa2cd9c
LOCATION:Bergy Bandroom (Brunswick, VIC)
END:VEVENT
END:VCALENDAR