BEGIN:VCALENDAR
VERSION:2.0
BEGIN:VEVENT
URL:https://tickets.oztix.com.au/outlet/event/f2d52d10-7233-406c-9763-39f45eb2375a
DTSTART:20260528T090000Z
DTEND:20260528T090000Z
SUMMARY:Phoebe Go - Solo (second show)
DESCRIPTION:Event details: https://tickets.oztix.com.au/outlet/event/f2d52d10-7233-406c-9763-39f45eb2375a
LOCATION:Golden Age Cinema & Bar (Surry Hills, NSW)
END:VEVENT
END:VCALENDAR