BEGIN:VCALENDAR
VERSION:2.0
BEGIN:VEVENT
URL:https://tickets.oztix.com.au/outlet/event/f2ccf39f-5587-4ae2-a626-1142ef6324a2
DTSTART:20260425T090000Z
DTEND:20260425T090000Z
SUMMARY:Newton Faulkner (UK)
DESCRIPTION:Event details: https://tickets.oztix.com.au/outlet/event/f2ccf39f-5587-4ae2-a626-1142ef6324a2
LOCATION:The Brightside (Fortitude Valley, QLD)
END:VEVENT
END:VCALENDAR