BEGIN:VCALENDAR
VERSION:2.0
BEGIN:VEVENT
URL:https://tickets.oztix.com.au/outlet/event/f1e7eecd-8dea-4595-b7c5-d91c6089f2e2
DTSTART:20260523T060000Z
DTEND:20260523T060000Z
SUMMARY:Frankie Venter
DESCRIPTION:Event details: https://tickets.oztix.com.au/outlet/event/f1e7eecd-8dea-4595-b7c5-d91c6089f2e2
LOCATION:38 Berwick Street  (Fortitude Valley, QLD)
END:VEVENT
END:VCALENDAR