BEGIN:VCALENDAR
VERSION:2.0
BEGIN:VEVENT
URL:https://tickets.oztix.com.au/outlet/event/f14cdee8-ec32-4941-9a64-fe8cc020bd24
DTSTART:20260605T093000Z
DTEND:20260605T093000Z
SUMMARY:Pierce Brothers - Moonrise Album Tour
DESCRIPTION:Event details: https://tickets.oztix.com.au/outlet/event/f14cdee8-ec32-4941-9a64-fe8cc020bd24
LOCATION:Birregurra Hall (Birregurra, VIC)
END:VEVENT
END:VCALENDAR