BEGIN:VCALENDAR
VERSION:2.0
BEGIN:VEVENT
URL:https://tickets.oztix.com.au/outlet/event/f11a9f07-f4df-465f-bc48-b59f8222e62d
DTSTART:20260620T030000Z
DTEND:20260620T030000Z
SUMMARY:HOPEFUL FEW
DESCRIPTION:Event details: https://tickets.oztix.com.au/outlet/event/f11a9f07-f4df-465f-bc48-b59f8222e62d
LOCATION:The Workers Club (Fitzroy, VIC)
END:VEVENT
END:VCALENDAR