BEGIN:VCALENDAR
VERSION:2.0
BEGIN:VEVENT
URL:https://tickets.oztix.com.au/outlet/event/f10dba4c-2ebd-4288-a1e5-4b6d97989ed7
DTSTART:20260509T100000Z
DTEND:20260509T100000Z
SUMMARY:Sleep Box Hotel
DESCRIPTION:Event details: https://tickets.oztix.com.au/outlet/event/f10dba4c-2ebd-4288-a1e5-4b6d97989ed7
LOCATION:The Workers Club (Fitzroy, VIC)
END:VEVENT
END:VCALENDAR