BEGIN:VCALENDAR
VERSION:2.0
BEGIN:VEVENT
URL:https://tickets.oztix.com.au/outlet/event/ef2e9e1c-1d20-4d85-8b9b-cd66354d6204
DTSTART:20260523T010000Z
DTEND:20260523T010000Z
SUMMARY:Amateur's Race Day
DESCRIPTION:Event details: https://tickets.oztix.com.au/outlet/event/ef2e9e1c-1d20-4d85-8b9b-cd66354d6204
LOCATION:Mackay Turf Club (Ooralea , QLD)
END:VEVENT
END:VCALENDAR