BEGIN:VCALENDAR
VERSION:2.0
BEGIN:VEVENT
URL:https://tickets.oztix.com.au/outlet/event/ece09fad-e20f-46c9-8123-1293270336e7
DTSTART:20260515T210000Z
DTEND:20260515T210000Z
SUMMARY:WATTY THOMPSON - 7AM SET - CELEBRATING 10 YEARS OF THE LAST CHANCE
DESCRIPTION:Event details: https://tickets.oztix.com.au/outlet/event/ece09fad-e20f-46c9-8123-1293270336e7
LOCATION:The Last Chance Rock & Roll Bar (North Melbourne, VIC)
END:VEVENT
END:VCALENDAR