BEGIN:VCALENDAR
VERSION:2.0
BEGIN:VEVENT
URL:https://tickets.oztix.com.au/outlet/event/ecd56e1c-5e4f-44b7-b21e-d848b9aa376f
DTSTART:20260718T090000Z
DTEND:20260718T090000Z
SUMMARY:Chocolate Starfish – ALL FIRED UP Classic Hits '26 Tour
DESCRIPTION:Event details: https://tickets.oztix.com.au/outlet/event/ecd56e1c-5e4f-44b7-b21e-d848b9aa376f
LOCATION:Belmont 16s Sailing Club (Belmont, NSW)
END:VEVENT
END:VCALENDAR