BEGIN:VCALENDAR
VERSION:2.0
BEGIN:VEVENT
URL:https://tickets.oztix.com.au/outlet/event/ebd74aab-6eee-45c2-bd5a-8433d9e0ce7c
DTSTART:20261120T080000Z
DTEND:20261120T080000Z
SUMMARY:Minden's 16th Live Music Festival
DESCRIPTION:Event details: https://tickets.oztix.com.au/outlet/event/ebd74aab-6eee-45c2-bd5a-8433d9e0ce7c
LOCATION:Minden Retreat (25 Boughens Rd Minden QLD) (Minden, QLD)
END:VEVENT
END:VCALENDAR