BEGIN:VCALENDAR
VERSION:2.0
BEGIN:VEVENT
URL:https://tickets.oztix.com.au/outlet/event/ea298c55-962f-4560-a994-da98083a4776
DTSTART:20260530T080000Z
DTEND:20260530T080000Z
SUMMARY:FOREVER NU ACROSS AUSTRALIA 2026 TOUR
DESCRIPTION:Event details: https://tickets.oztix.com.au/outlet/event/ea298c55-962f-4560-a994-da98083a4776
LOCATION:Mo's Desert Clubhouse (Burleigh Heads, QLD)
END:VEVENT
END:VCALENDAR