BEGIN:VCALENDAR
VERSION:2.0
BEGIN:VEVENT
URL:https://tickets.oztix.com.au/outlet/event/ea1a8ef7-fa39-4b42-84e5-746d119f9038
DTSTART:20260516T080000Z
DTEND:20260516T080000Z
SUMMARY:Boombastic presents KE-YEN on tha Run
DESCRIPTION:Event details: https://tickets.oztix.com.au/outlet/event/ea1a8ef7-fa39-4b42-84e5-746d119f9038
LOCATION:Port Beach Brewery (North Fremantle, WA)
END:VEVENT
END:VCALENDAR