BEGIN:VCALENDAR
VERSION:2.0
BEGIN:VEVENT
URL:https://tickets.oztix.com.au/outlet/event/e9cb9341-9edd-413c-a240-09b84cf93bf5
DTSTART:20260430T090000Z
DTEND:20260430T090000Z
SUMMARY:Jet - The Rumblin' Regional Revue
DESCRIPTION:Event details: https://tickets.oztix.com.au/outlet/event/e9cb9341-9edd-413c-a240-09b84cf93bf5
LOCATION:McGuires Hotel (Mackay, QLD)
END:VEVENT
END:VCALENDAR