BEGIN:VCALENDAR
VERSION:2.0
BEGIN:VEVENT
URL:https://tickets.oztix.com.au/outlet/event/e8eba0b2-2e36-402f-88cb-214931a4c305
DTSTART:20260823T023000Z
DTEND:20260823T023000Z
SUMMARY:You Don't Bring Me Flowers: The Barbra Streisand Story (Matinee Show)
DESCRIPTION:Event details: https://tickets.oztix.com.au/outlet/event/e8eba0b2-2e36-402f-88cb-214931a4c305
LOCATION:Hepburn Palais (Hepburn Springs, VIC)
END:VEVENT
END:VCALENDAR