BEGIN:VCALENDAR
VERSION:2.0
BEGIN:VEVENT
URL:https://tickets.oztix.com.au/outlet/event/e8b1d9f0-198f-4884-bd15-aecd753efbf9
DTSTART:20260627T100000Z
DTEND:20260627T100000Z
SUMMARY:Mojo Risin The Doors Experience "The L.A Woman Tour"
DESCRIPTION:Event details: https://tickets.oztix.com.au/outlet/event/e8b1d9f0-198f-4884-bd15-aecd753efbf9
LOCATION:The Bridgeway Hotel (Pooraka, SA)
END:VEVENT
END:VCALENDAR