BEGIN:VCALENDAR
VERSION:2.0
BEGIN:VEVENT
URL:https://tickets.oztix.com.au/outlet/event/e88a749b-de14-4af1-8ea3-6c322cb466b6
DTSTART:20260522T100000Z
DTEND:20260522T100000Z
SUMMARY:RUBY MAE
DESCRIPTION:Event details: https://tickets.oztix.com.au/outlet/event/e88a749b-de14-4af1-8ea3-6c322cb466b6
LOCATION:The Old Bar (Fitzroy, VIC)
END:VEVENT
END:VCALENDAR