BEGIN:VCALENDAR
VERSION:2.0
BEGIN:VEVENT
URL:https://tickets.oztix.com.au/outlet/event/e84588d6-0a20-47b1-a8ef-873f37ca4e44
DTSTART:20260604T100000Z
DTEND:20260604T100000Z
SUMMARY:Neeko | ALBUM LAUNCH
DESCRIPTION:Event details: https://tickets.oztix.com.au/outlet/event/e84588d6-0a20-47b1-a8ef-873f37ca4e44
LOCATION:The Evelyn Hotel (Fitzroy, VIC)
END:VEVENT
END:VCALENDAR