BEGIN:VCALENDAR
VERSION:2.0
BEGIN:VEVENT
URL:https://tickets.oztix.com.au/outlet/event/e7e6d6a2-c3e1-4889-8192-7771b4096a9f
DTSTART:20260424T093000Z
DTEND:20260424T093000Z
SUMMARY:Vanessa Amorosi (Celebrating 25 Years)
DESCRIPTION:Event details: https://tickets.oztix.com.au/outlet/event/e7e6d6a2-c3e1-4889-8192-7771b4096a9f
LOCATION:Corner Hotel (Richmond, Melbourne, VIC)
END:VEVENT
END:VCALENDAR