BEGIN:VCALENDAR
VERSION:2.0
BEGIN:VEVENT
URL:https://tickets.oztix.com.au/outlet/event/e77779d6-6f9f-4102-b349-5816ffab8df1
DTSTART:20260501T093000Z
DTEND:20260501T093000Z
SUMMARY:Hey So Hungry Live in Sydney
DESCRIPTION:Event details: https://tickets.oztix.com.au/outlet/event/e77779d6-6f9f-4102-b349-5816ffab8df1
LOCATION:Buddy’s Bar Newtown (Newtown, NSW)
END:VEVENT
END:VCALENDAR