BEGIN:VCALENDAR
VERSION:2.0
BEGIN:VEVENT
URL:https://tickets.oztix.com.au/outlet/event/e742831f-a4f1-4d33-9de9-03480c4404a5
DTSTART:20260507T090000Z
DTEND:20260507T090000Z
SUMMARY:ECLIPSE (Sweden)
DESCRIPTION:Event details: https://tickets.oztix.com.au/outlet/event/e742831f-a4f1-4d33-9de9-03480c4404a5
LOCATION:Stay Gold  (BRUNSWICK, VIC)
END:VEVENT
END:VCALENDAR