BEGIN:VCALENDAR
VERSION:2.0
BEGIN:VEVENT
URL:https://tickets.oztix.com.au/outlet/event/e6ba478c-f00c-4685-a654-61313df6ed71
DTSTART:20261024T080000Z
DTEND:20261024T080000Z
SUMMARY:La Dispute
DESCRIPTION:Event details: https://tickets.oztix.com.au/outlet/event/e6ba478c-f00c-4685-a654-61313df6ed71
LOCATION:King Street (Newcastle) (Newcastle West, NSW)
END:VEVENT
END:VCALENDAR