BEGIN:VCALENDAR
VERSION:2.0
BEGIN:VEVENT
URL:https://tickets.oztix.com.au/outlet/event/e62bb2c5-cf37-4755-bdc3-baed16694313
DTSTART:20260607T030000Z
DTEND:20260607T030000Z
SUMMARY:The Return of The Sunday Rocknroll BBQ
DESCRIPTION:Event details: https://tickets.oztix.com.au/outlet/event/e62bb2c5-cf37-4755-bdc3-baed16694313
LOCATION:The Brightside (Outdoors) (Fortitude Valley, QLD)
END:VEVENT
END:VCALENDAR