BEGIN:VCALENDAR
VERSION:2.0
BEGIN:VEVENT
URL:https://tickets.oztix.com.au/outlet/event/e4ff1188-407a-4315-aa8d-e2a84a7eb4b9
DTSTART:20260503T040000Z
DTEND:20260503T040000Z
SUMMARY:Newstead House Sunday Guided Tours - 2PM Sunday 3rd May
DESCRIPTION:Event details: https://tickets.oztix.com.au/outlet/event/e4ff1188-407a-4315-aa8d-e2a84a7eb4b9
LOCATION:Newstead House (Newstead, QLD)
END:VEVENT
END:VCALENDAR