BEGIN:VCALENDAR
VERSION:2.0
BEGIN:VEVENT
URL:https://tickets.oztix.com.au/outlet/event/e468a230-fde5-4d13-aa6d-cf14a3f25206
DTSTART:20260516T113000Z
DTEND:20260516T113000Z
SUMMARY:WEEZER ‘The Green Album’ 25 Year Anniversary Tribute Show w/ Nirvana & Green Day Tributes | Amplifier Bar, Perth City
DESCRIPTION:Event details: https://tickets.oztix.com.au/outlet/event/e468a230-fde5-4d13-aa6d-cf14a3f25206
LOCATION:Amplifier Bar (Perth, WA)
END:VEVENT
END:VCALENDAR