BEGIN:VCALENDAR
VERSION:2.0
BEGIN:VEVENT
URL:https://tickets.oztix.com.au/outlet/event/e3d91e21-5eb4-4644-a0f4-2f77046a9fb2
DTSTART:20260912T080000Z
DTEND:20260912T080000Z
SUMMARY:Magic Men Sydney
DESCRIPTION:Event details: https://tickets.oztix.com.au/outlet/event/e3d91e21-5eb4-4644-a0f4-2f77046a9fb2
LOCATION:Shark Hotel (Sydney , NSW)
END:VEVENT
END:VCALENDAR