BEGIN:VCALENDAR
VERSION:2.0
BEGIN:VEVENT
URL:https://tickets.oztix.com.au/outlet/event/e29a01ba-65aa-43c7-b288-e5679026aa3a
DTSTART:20260523T100000Z
DTEND:20260523T100000Z
SUMMARY:Toby Beard
DESCRIPTION:Event details: https://tickets.oztix.com.au/outlet/event/e29a01ba-65aa-43c7-b288-e5679026aa3a
LOCATION:The Wheatsheaf Hotel (Thebarton, SA)
END:VEVENT
END:VCALENDAR