BEGIN:VCALENDAR
VERSION:2.0
BEGIN:VEVENT
URL:https://tickets.oztix.com.au/outlet/event/e228a173-8db8-404a-8f66-c3311ada192c
DTSTART:20260508T100000Z
DTEND:20260508T100000Z
SUMMARY:HEADSEND (New date)
DESCRIPTION:Event details: https://tickets.oztix.com.au/outlet/event/e228a173-8db8-404a-8f66-c3311ada192c
LOCATION:John Curtin Hotel (Carlton, VIC)
END:VEVENT
END:VCALENDAR