BEGIN:VCALENDAR
VERSION:2.0
BEGIN:VEVENT
URL:https://tickets.oztix.com.au/outlet/event/e19927b6-fcec-4460-8421-9306c5b619a8
DTSTART:20260514T090000Z
DTEND:20260514T090000Z
SUMMARY:Red Velvet Rascal "CYBERTRATION" Album Launch
DESCRIPTION:Event details: https://tickets.oztix.com.au/outlet/event/e19927b6-fcec-4460-8421-9306c5b619a8
LOCATION:Black Bear Lodge (Fortitude Valley, QLD)
END:VEVENT
END:VCALENDAR